BEGIN:VCALENDAR
VERSION:2.0
PRODID:-//US VALUES ALLIANCE - ECPv6.15.20//NONSGML v1.0//EN
CALSCALE:GREGORIAN
METHOD:PUBLISH
X-WR-CALNAME:US VALUES ALLIANCE
X-ORIGINAL-URL:https://usvaluesalliance.com
X-WR-CALDESC:Events for US VALUES ALLIANCE
REFRESH-INTERVAL;VALUE=DURATION:PT1H
X-Robots-Tag:noindex
X-PUBLISHED-TTL:PT1H
BEGIN:VTIMEZONE
TZID:America/Los_Angeles
BEGIN:DAYLIGHT
TZOFFSETFROM:-0800
TZOFFSETTO:-0700
TZNAME:PDT
DTSTART:20250309T100000
END:DAYLIGHT
BEGIN:STANDARD
TZOFFSETFROM:-0700
TZOFFSETTO:-0800
TZNAME:PST
DTSTART:20251102T090000
END:STANDARD
BEGIN:DAYLIGHT
TZOFFSETFROM:-0800
TZOFFSETTO:-0700
TZNAME:PDT
DTSTART:20260308T100000
END:DAYLIGHT
BEGIN:STANDARD
TZOFFSETFROM:-0700
TZOFFSETTO:-0800
TZNAME:PST
DTSTART:20261101T090000
END:STANDARD
BEGIN:DAYLIGHT
TZOFFSETFROM:-0800
TZOFFSETTO:-0700
TZNAME:PDT
DTSTART:20270314T100000
END:DAYLIGHT
BEGIN:STANDARD
TZOFFSETFROM:-0700
TZOFFSETTO:-0800
TZNAME:PST
DTSTART:20271107T090000
END:STANDARD
END:VTIMEZONE
BEGIN:VEVENT
DTSTART;TZID=America/Los_Angeles:20260520T090000
DTEND;TZID=America/Los_Angeles:20260520T100000
DTSTAMP:20260423T051527
CREATED:20260422T004741Z
LAST-MODIFIED:20260422T004741Z
UID:808-1779267600-1779271200@usvaluesalliance.com
SUMMARY:American Values at 250 - Part Two
DESCRIPTION:In session one\, we looked at the values expressed by the founders in 1776. \nEach person then contributed one value they think is important for the future of our democracy. \n  \nWe will look at the words offered on March 17 and have a juicy discussion about how to select the values that best represent our desires. \nHere are the words that were offered that day: \n\nDemocracy – inclusive\, fair\, balanced\nEducation – Lifelong learning\, intention for people to expand who they are\, necessary for self governance\nStewardship – Care for animals\, earth\, water\, each other\, collective\nCourage – to stand up when difficult\nKindness\nAction\nCharacter\nIntegrity – Aligned with self\nParticipation – A sense of expectation to participate\n\nWhat values might be missing? \nAre there any values you object to? \nHow would you publicize and socialize these values? \nCome for a casual and thoughtful discussion on Wed\, May 20 at 9am Pacific. \n  \nSign up HERE
URL:https://usvaluesalliance.com/event/american-values-at-250-part-two/
LOCATION:Zoom
END:VEVENT
END:VCALENDAR